
BEGIN:VCALENDAR
VERSION:2.0
PRODID:-//NPO法人みえ減災啓発支援ネット - ECPv5.8.1//NONSGML v1.0//EN
CALSCALE:GREGORIAN
METHOD:PUBLISH
X-WR-CALNAME:NPO法人みえ減災啓発支援ネット
X-ORIGINAL-URL:http://gensaikeihatsu.org
X-WR-CALDESC:NPO法人みえ減災啓発支援ネット のイベント
BEGIN:VTIMEZONE
TZID:Asia/Tokyo
BEGIN:STANDARD
TZOFFSETFROM:+0900
TZOFFSETTO:+0900
TZNAME:JST
DTSTART:20190101T000000
END:STANDARD
END:VTIMEZONE
BEGIN:VEVENT
DTSTART;TZID=Asia/Tokyo:20191221T133000
DTEND;TZID=Asia/Tokyo:20191221T150000
DTSTAMP:20260419T223150
CREATED:20190622T053934Z
LAST-MODIFIED:20190622T053937Z
UID:2158-1576935000-1576940400@gensaikeihatsu.org
SUMMARY:NPO法人　運営委員会
DESCRIPTION:
URL:http://gensaikeihatsu.org/event/npo%e6%b3%95%e4%ba%ba%e3%80%80%e9%81%8b%e5%96%b6%e5%a7%94%e5%93%a1%e4%bc%9a-5
END:VEVENT
END:VCALENDAR