
BEGIN:VCALENDAR
VERSION:2.0
PRODID:-//NPO法人みえ減災啓発支援ネット - ECPv5.8.1//NONSGML v1.0//EN
CALSCALE:GREGORIAN
METHOD:PUBLISH
X-WR-CALNAME:NPO法人みえ減災啓発支援ネット
X-ORIGINAL-URL:http://gensaikeihatsu.org
X-WR-CALDESC:NPO法人みえ減災啓発支援ネット のイベント
BEGIN:VTIMEZONE
TZID:Asia/Tokyo
BEGIN:STANDARD
TZOFFSETFROM:+0900
TZOFFSETTO:+0900
TZNAME:JST
DTSTART:20190101T000000
END:STANDARD
END:VTIMEZONE
BEGIN:VEVENT
DTSTART;TZID=Asia/Tokyo:20190302T090000
DTEND;TZID=Asia/Tokyo:20190302T120000
DTSTAMP:20260425T192118
CREATED:20181020T085810Z
LAST-MODIFIED:20181020T085813Z
UID:1545-1551517200-1551528000@gensaikeihatsu.org
SUMMARY:防災大学『防災減災活動の啓発手法を学ぶ』プラス・アース　室崎
DESCRIPTION:
URL:http://gensaikeihatsu.org/event/%e9%98%b2%e7%81%bd%e5%a4%a7%e5%ad%a6%e3%80%8e%e9%98%b2%e7%81%bd%e6%b8%9b%e7%81%bd%e6%b4%bb%e5%8b%95%e3%81%ae%e5%95%93%e7%99%ba%e6%89%8b%e6%b3%95%e3%82%92%e5%ad%a6%e3%81%b6%e3%80%8f%e3%83%97%e3%83%a9
LOCATION:消防本部　防災センター
END:VEVENT
END:VCALENDAR