
BEGIN:VCALENDAR
VERSION:2.0
PRODID:-//NPO法人みえ減災啓発支援ネット - ECPv5.8.1//NONSGML v1.0//EN
CALSCALE:GREGORIAN
METHOD:PUBLISH
X-WR-CALNAME:NPO法人みえ減災啓発支援ネット
X-ORIGINAL-URL:http://gensaikeihatsu.org
X-WR-CALDESC:NPO法人みえ減災啓発支援ネット のイベント
BEGIN:VTIMEZONE
TZID:Asia/Tokyo
BEGIN:STANDARD
TZOFFSETFROM:+0900
TZOFFSETTO:+0900
TZNAME:JST
DTSTART:20190101T000000
END:STANDARD
END:VTIMEZONE
BEGIN:VEVENT
DTSTART;TZID=Asia/Tokyo:20190216T090000
DTEND;TZID=Asia/Tokyo:20190216T120000
DTSTAMP:20260426T094517
CREATED:20181020T084913Z
LAST-MODIFIED:20181020T084916Z
UID:1538-1550307600-1550318400@gensaikeihatsu.org
SUMMARY:防災大学『ステップアップ受講生の成果発表』　三重大学　川口准教授
DESCRIPTION:
URL:http://gensaikeihatsu.org/event/%e9%98%b2%e7%81%bd%e5%a4%a7%e5%ad%a6%e3%80%8e%e3%82%b9%e3%83%86%e3%83%83%e3%83%97%e3%82%a2%e3%83%83%e3%83%97%e5%8f%97%e8%ac%9b%e7%94%9f%e3%81%ae%e6%88%90%e6%9e%9c%e7%99%ba%e8%a1%a8%e3%80%8f%e3%80%80
LOCATION:総合会館第一研修室
END:VEVENT
END:VCALENDAR