
BEGIN:VCALENDAR
VERSION:2.0
PRODID:-//NPO法人みえ減災啓発支援ネット - ECPv5.8.1//NONSGML v1.0//EN
CALSCALE:GREGORIAN
METHOD:PUBLISH
X-WR-CALNAME:NPO法人みえ減災啓発支援ネット
X-ORIGINAL-URL:http://gensaikeihatsu.org
X-WR-CALDESC:NPO法人みえ減災啓発支援ネット のイベント
BEGIN:VTIMEZONE
TZID:Asia/Tokyo
BEGIN:STANDARD
TZOFFSETFROM:+0900
TZOFFSETTO:+0900
TZNAME:JST
DTSTART:20190101T000000
END:STANDARD
END:VTIMEZONE
BEGIN:VEVENT
DTSTART;TZID=Asia/Tokyo:20191126T133000
DTEND;TZID=Asia/Tokyo:20191126T153000
DTSTAMP:20260420T073838
CREATED:20190820T084741Z
LAST-MODIFIED:20190820T084744Z
UID:2216-1574775000-1574782200@gensaikeihatsu.org
SUMMARY:笹川小学校『炊き出し君』４年生71名・保護者
DESCRIPTION:
URL:http://gensaikeihatsu.org/event/%e7%ac%b9%e5%b7%9d%e5%b0%8f%e5%ad%a6%e6%a0%a1%e3%80%8e%e7%82%8a%e3%81%8d%e5%87%ba%e3%81%97%e5%90%9b%e3%80%8f%ef%bc%94%e5%b9%b4%e7%94%9f71%e5%90%8d%e3%83%bb%e4%bf%9d%e8%ad%b7%e8%80%85
LOCATION:体育館
END:VEVENT
END:VCALENDAR