
BEGIN:VCALENDAR
VERSION:2.0
PRODID:-//NPO法人みえ減災啓発支援ネット - ECPv5.8.1//NONSGML v1.0//EN
CALSCALE:GREGORIAN
METHOD:PUBLISH
X-WR-CALNAME:NPO法人みえ減災啓発支援ネット
X-ORIGINAL-URL:http://gensaikeihatsu.org
X-WR-CALDESC:NPO法人みえ減災啓発支援ネット のイベント
BEGIN:VTIMEZONE
TZID:Asia/Tokyo
BEGIN:STANDARD
TZOFFSETFROM:+0900
TZOFFSETTO:+0900
TZNAME:JST
DTSTART:20230101T000000
END:STANDARD
END:VTIMEZONE
BEGIN:VEVENT
DTSTART;TZID=Asia/Tokyo:20231102T133000
DTEND;TZID=Asia/Tokyo:20231102T153000
DTSTAMP:20260422T172002
CREATED:20231025T111326Z
LAST-MODIFIED:20231025T111332Z
UID:3065-1698931800-1698939000@gensaikeihatsu.org
SUMMARY:笹川小学校「炊き出し君」4年生76名11班
DESCRIPTION:
URL:http://gensaikeihatsu.org/event/%e7%ac%b9%e5%b7%9d%e5%b0%8f%e5%ad%a6%e6%a0%a1%e3%80%8c%e7%82%8a%e3%81%8d%e5%87%ba%e3%81%97%e5%90%9b%e3%80%8d4%e5%b9%b4%e7%94%9f76%e5%90%8d11%e7%8f%ad
END:VEVENT
END:VCALENDAR