
BEGIN:VCALENDAR
VERSION:2.0
PRODID:-//NPO法人みえ減災啓発支援ネット - ECPv5.8.1//NONSGML v1.0//EN
CALSCALE:GREGORIAN
METHOD:PUBLISH
X-WR-CALNAME:NPO法人みえ減災啓発支援ネット
X-ORIGINAL-URL:http://gensaikeihatsu.org
X-WR-CALDESC:NPO法人みえ減災啓発支援ネット のイベント
BEGIN:VTIMEZONE
TZID:Asia/Tokyo
BEGIN:STANDARD
TZOFFSETFROM:+0900
TZOFFSETTO:+0900
TZNAME:JST
DTSTART:20250101T000000
END:STANDARD
END:VTIMEZONE
BEGIN:VEVENT
DTSTART;TZID=Asia/Tokyo:20250125T133000
DTEND;TZID=Asia/Tokyo:20250125T153000
DTSTAMP:20260421T035802
CREATED:20250123T220746Z
LAST-MODIFIED:20250123T220747Z
UID:3205-1737811800-1737819000@gensaikeihatsu.org
SUMMARY:第2回地域活動発表会
DESCRIPTION:
URL:http://gensaikeihatsu.org/event/%e7%ac%ac2%e5%9b%9e%e5%9c%b0%e5%9f%9f%e6%b4%bb%e5%8b%95%e7%99%ba%e8%a1%a8%e4%bc%9a
END:VEVENT
END:VCALENDAR