
BEGIN:VCALENDAR
VERSION:2.0
PRODID:-//NPO法人みえ減災啓発支援ネット - ECPv5.8.1//NONSGML v1.0//EN
CALSCALE:GREGORIAN
METHOD:PUBLISH
X-WR-CALNAME:NPO法人みえ減災啓発支援ネット
X-ORIGINAL-URL:http://gensaikeihatsu.org
X-WR-CALDESC:NPO法人みえ減災啓発支援ネット のイベント
BEGIN:VTIMEZONE
TZID:Asia/Tokyo
BEGIN:STANDARD
TZOFFSETFROM:+0900
TZOFFSETTO:+0900
TZNAME:JST
DTSTART:20190101T000000
END:STANDARD
END:VTIMEZONE
BEGIN:VEVENT
DTSTART;TZID=Asia/Tokyo:20190714T090000
DTEND;TZID=Asia/Tokyo:20190714T120000
DTSTAMP:20260424T112428
CREATED:20190509T020846Z
LAST-MODIFIED:20190509T020855Z
UID:2053-1563094800-1563105600@gensaikeihatsu.org
SUMMARY:川島地区防災連絡協議会『ＨＵＧ』
DESCRIPTION:
URL:http://gensaikeihatsu.org/event/%e5%b7%9d%e5%b3%b6%e5%9c%b0%e5%8c%ba%e9%98%b2%e7%81%bd%e9%80%a3%e7%b5%a1%e5%8d%94%e8%ad%b0%e4%bc%9a%e3%80%8e%ef%bd%88%ef%bd%95%ef%bd%87%e3%80%8f
LOCATION:川島地区市民センター
CATEGORIES:地域活動
END:VEVENT
END:VCALENDAR