
BEGIN:VCALENDAR
VERSION:2.0
PRODID:-//NPO法人みえ減災啓発支援ネット - ECPv5.8.1//NONSGML v1.0//EN
CALSCALE:GREGORIAN
METHOD:PUBLISH
X-WR-CALNAME:NPO法人みえ減災啓発支援ネット
X-ORIGINAL-URL:http://gensaikeihatsu.org
X-WR-CALDESC:NPO法人みえ減災啓発支援ネット のイベント
BEGIN:VTIMEZONE
TZID:Asia/Tokyo
BEGIN:STANDARD
TZOFFSETFROM:+0900
TZOFFSETTO:+0900
TZNAME:JST
DTSTART:20230101T000000
END:STANDARD
END:VTIMEZONE
BEGIN:VEVENT
DTSTART;TZID=Asia/Tokyo:20231029T130000
DTEND;TZID=Asia/Tokyo:20231029T160000
DTSTAMP:20260422T183657
CREATED:20230423T045114Z
LAST-MODIFIED:20231025T110311Z
UID:2912-1698584400-1698595200@gensaikeihatsu.org
SUMMARY:川島地区防災協議会　三滝台自主防災隊　HUG
DESCRIPTION:
URL:http://gensaikeihatsu.org/event/%e5%b7%9d%e5%b3%b6%e5%9c%b0%e5%8c%ba%e9%98%b2%e7%81%bd%e5%8d%94%e8%ad%b0%e4%bc%9a%e3%80%80%e4%b8%89%e6%bb%9d%e5%8f%b0%e8%87%aa%e4%b8%bb%e9%98%b2%e7%81%bd%e9%9a%8a%e3%80%80hug
LOCATION:三滝台集会所
END:VEVENT
END:VCALENDAR