
BEGIN:VCALENDAR
VERSION:2.0
PRODID:-//NPO法人みえ減災啓発支援ネット - ECPv5.8.1//NONSGML v1.0//EN
CALSCALE:GREGORIAN
METHOD:PUBLISH
X-WR-CALNAME:NPO法人みえ減災啓発支援ネット
X-ORIGINAL-URL:http://gensaikeihatsu.org
X-WR-CALDESC:NPO法人みえ減災啓発支援ネット のイベント
BEGIN:VTIMEZONE
TZID:Asia/Tokyo
BEGIN:STANDARD
TZOFFSETFROM:+0900
TZOFFSETTO:+0900
TZNAME:JST
DTSTART:20250101T000000
END:STANDARD
END:VTIMEZONE
BEGIN:VEVENT
DTSTART;TZID=Asia/Tokyo:20250213T190000
DTEND;TZID=Asia/Tokyo:20250213T203000
DTSTAMP:20260421T024428
CREATED:20250123T111151Z
LAST-MODIFIED:20250123T111151Z
UID:3185-1739473200-1739478600@gensaikeihatsu.org
SUMMARY:大谷台地区防災組織　防災訓練まとめ
DESCRIPTION:
URL:http://gensaikeihatsu.org/event/%e5%a4%a7%e8%b0%b7%e5%8f%b0%e5%9c%b0%e5%8c%ba%e9%98%b2%e7%81%bd%e7%b5%84%e7%b9%94%e3%80%80%e9%98%b2%e7%81%bd%e8%a8%93%e7%b7%b4%e3%81%be%e3%81%a8%e3%82%81
END:VEVENT
END:VCALENDAR