
BEGIN:VCALENDAR
VERSION:2.0
PRODID:-//NPO法人みえ減災啓発支援ネット - ECPv5.8.1//NONSGML v1.0//EN
CALSCALE:GREGORIAN
METHOD:PUBLISH
X-WR-CALNAME:NPO法人みえ減災啓発支援ネット
X-ORIGINAL-URL:http://gensaikeihatsu.org
X-WR-CALDESC:NPO法人みえ減災啓発支援ネット のイベント
BEGIN:VTIMEZONE
TZID:Asia/Tokyo
BEGIN:STANDARD
TZOFFSETFROM:+0900
TZOFFSETTO:+0900
TZNAME:JST
DTSTART:20190101T000000
END:STANDARD
END:VTIMEZONE
BEGIN:VEVENT
DTSTART;TZID=Asia/Tokyo:20190212T133000
DTEND;TZID=Asia/Tokyo:20190212T152000
DTSTAMP:20260426T113557
CREATED:20190119T080931Z
LAST-MODIFIED:20190123T002340Z
UID:1894-1549978200-1549984800@gensaikeihatsu.org
SUMMARY:内部東小学校　『炊き出し君』　４年生　９１名　１３班
DESCRIPTION:詳しいスケジュールはこちら
URL:http://gensaikeihatsu.org/event/%e5%86%85%e9%83%a8%e6%9d%b1%e5%b0%8f%e5%ad%a6%e6%a0%a1%e3%80%80%e3%80%8e%e7%82%8a%e3%81%8d%e5%87%ba%e3%81%97%e5%90%9b%e3%80%8f%e3%80%80%ef%bc%94%e5%b9%b4%e7%94%9f%e3%80%80%ef%bc%99%ef%bc%91%e5%90%8d
END:VEVENT
END:VCALENDAR