
BEGIN:VCALENDAR
VERSION:2.0
PRODID:-//NPO法人みえ減災啓発支援ネット - ECPv5.8.1//NONSGML v1.0//EN
CALSCALE:GREGORIAN
METHOD:PUBLISH
X-WR-CALNAME:NPO法人みえ減災啓発支援ネット
X-ORIGINAL-URL:http://gensaikeihatsu.org
X-WR-CALDESC:NPO法人みえ減災啓発支援ネット のイベント
BEGIN:VTIMEZONE
TZID:Asia/Tokyo
BEGIN:STANDARD
TZOFFSETFROM:+0900
TZOFFSETTO:+0900
TZNAME:JST
DTSTART:20190101T000000
END:STANDARD
END:VTIMEZONE
BEGIN:VEVENT
DTSTART;TZID=Asia/Tokyo:20190825T080000
DTEND;TZID=Asia/Tokyo:20190825T120000
DTSTAMP:20260421T175550
CREATED:20190622T051618Z
LAST-MODIFIED:20190622T051800Z
UID:2137-1566720000-1566734400@gensaikeihatsu.org
SUMMARY:八郷地区防災訓練
DESCRIPTION:八郷地区市民センター\n八郷小学校\n朝明中学校\n八郷西小学校\n暁学園中学校
URL:http://gensaikeihatsu.org/event/%e5%85%ab%e9%83%b7%e5%9c%b0%e5%8c%ba%e9%98%b2%e7%81%bd%e8%a8%93%e7%b7%b4-2
END:VEVENT
END:VCALENDAR