
BEGIN:VCALENDAR
VERSION:2.0
PRODID:-//NPO法人みえ減災啓発支援ネット - ECPv5.8.1//NONSGML v1.0//EN
CALSCALE:GREGORIAN
METHOD:PUBLISH
X-WR-CALNAME:NPO法人みえ減災啓発支援ネット
X-ORIGINAL-URL:http://gensaikeihatsu.org
X-WR-CALDESC:NPO法人みえ減災啓発支援ネット のイベント
BEGIN:VTIMEZONE
TZID:Asia/Tokyo
BEGIN:STANDARD
TZOFFSETFROM:+0900
TZOFFSETTO:+0900
TZNAME:JST
DTSTART:20190101T000000
END:STANDARD
END:VTIMEZONE
BEGIN:VEVENT
DTSTART;TZID=Asia/Tokyo:20191029T134500
DTEND;TZID=Asia/Tokyo:20191029T153500
DTSTAMP:20260420T215436
CREATED:20190606T092835Z
LAST-MODIFIED:20190606T092846Z
UID:2086-1572356700-1572363300@gensaikeihatsu.org
SUMMARY:中央小学校『炊き出し君』4年生 21名＋保護者
DESCRIPTION:
URL:http://gensaikeihatsu.org/event/%e4%b8%ad%e5%a4%ae%e5%b0%8f%e5%ad%a6%e6%a0%a1%e3%80%8e%e7%82%8a%e3%81%8d%e5%87%ba%e3%81%97%e5%90%9b%e3%80%8f4%e5%b9%b4%e7%94%9f-21%e5%90%8d%ef%bc%8b%e4%bf%9d%e8%ad%b7%e8%80%85
END:VEVENT
END:VCALENDAR