
BEGIN:VCALENDAR
VERSION:2.0
PRODID:-//NPO法人みえ減災啓発支援ネット - ECPv5.8.1//NONSGML v1.0//EN
CALSCALE:GREGORIAN
METHOD:PUBLISH
X-WR-CALNAME:NPO法人みえ減災啓発支援ネット
X-ORIGINAL-URL:http://gensaikeihatsu.org
X-WR-CALDESC:NPO法人みえ減災啓発支援ネット のイベント
BEGIN:VTIMEZONE
TZID:Asia/Tokyo
BEGIN:STANDARD
TZOFFSETFROM:+0900
TZOFFSETTO:+0900
TZNAME:JST
DTSTART:20190101T000000
END:STANDARD
END:VTIMEZONE
BEGIN:VEVENT
DTSTART;TZID=Asia/Tokyo:20190223T130000
DTEND;TZID=Asia/Tokyo:20190223T150000
DTSTAMP:20260425T230915
CREATED:20181228T074507Z
LAST-MODIFIED:20181228T074509Z
UID:1875-1550926800-1550934000@gensaikeihatsu.org
SUMMARY:下野地区市民センター　マップ作りとワークショップ
DESCRIPTION:
URL:http://gensaikeihatsu.org/event/%e4%b8%8b%e9%87%8e%e5%9c%b0%e5%8c%ba%e5%b8%82%e6%b0%91%e3%82%bb%e3%83%b3%e3%82%bf%e3%83%bc%e3%80%80%e3%83%9e%e3%83%83%e3%83%97%e4%bd%9c%e3%82%8a%e3%81%a8%e3%83%af%e3%83%bc%e3%82%af%e3%82%b7%e3%83%a7
END:VEVENT
END:VCALENDAR