
BEGIN:VCALENDAR
VERSION:2.0
PRODID:-//NPO法人みえ減災啓発支援ネット - ECPv5.8.1//NONSGML v1.0//EN
CALSCALE:GREGORIAN
METHOD:PUBLISH
X-WR-CALNAME:NPO法人みえ減災啓発支援ネット
X-ORIGINAL-URL:http://gensaikeihatsu.org
X-WR-CALDESC:NPO法人みえ減災啓発支援ネット のイベント
BEGIN:VTIMEZONE
TZID:Asia/Tokyo
BEGIN:STANDARD
TZOFFSETFROM:+0900
TZOFFSETTO:+0900
TZNAME:JST
DTSTART:20190101T000000
END:STANDARD
END:VTIMEZONE
BEGIN:VEVENT
DTSTART;TZID=Asia/Tokyo:20191025T133500
DTEND;TZID=Asia/Tokyo:20191025T151000
DTSTAMP:20260421T012151
CREATED:20190521T070929Z
LAST-MODIFIED:20190521T070933Z
UID:2066-1572010500-1572016200@gensaikeihatsu.org
SUMMARY:三重西小学校『炊き出し君』5年生　62名+保護者（約40名）
DESCRIPTION:
URL:http://gensaikeihatsu.org/event/%e4%b8%89%e9%87%8d%e8%a5%bf%e5%b0%8f%e5%ad%a6%e6%a0%a1%e3%80%8e%e7%82%8a%e3%81%8d%e5%87%ba%e3%81%97%e5%90%9b%e3%80%8f5%e5%b9%b4%e7%94%9f%e3%80%8062%e5%90%8d%e4%bf%9d%e8%ad%b7%e8%80%85%ef%bc%88
LOCATION:体育館
END:VEVENT
END:VCALENDAR