
BEGIN:VCALENDAR
VERSION:2.0
PRODID:-//NPO法人みえ減災啓発支援ネット - ECPv5.8.1//NONSGML v1.0//EN
CALSCALE:GREGORIAN
METHOD:PUBLISH
X-WR-CALNAME:NPO法人みえ減災啓発支援ネット
X-ORIGINAL-URL:http://gensaikeihatsu.org
X-WR-CALDESC:NPO法人みえ減災啓発支援ネット のイベント
BEGIN:VTIMEZONE
TZID:Asia/Tokyo
BEGIN:STANDARD
TZOFFSETFROM:+0900
TZOFFSETTO:+0900
TZNAME:JST
DTSTART:20190101T000000
END:STANDARD
END:VTIMEZONE
BEGIN:VEVENT
DTSTART;TZID=Asia/Tokyo:20190818T090000
DTEND;TZID=Asia/Tokyo:20190818T120000
DTSTAMP:20260423T212440
CREATED:20190422T065012Z
LAST-MODIFIED:20190422T065015Z
UID:2036-1566118800-1566129600@gensaikeihatsu.org
SUMMARY:三滝台地区避難所運営訓練『ＨＵＧ』
DESCRIPTION:
URL:http://gensaikeihatsu.org/event/%e4%b8%89%e6%bb%9d%e5%8f%b0%e5%9c%b0%e5%8c%ba%e9%81%bf%e9%9b%a3%e6%89%80%e9%81%8b%e5%96%b6%e8%a8%93%e7%b7%b4%e3%80%8e%ef%bd%88%ef%bd%95%ef%bd%87%e3%80%8f
END:VEVENT
END:VCALENDAR