
BEGIN:VCALENDAR
VERSION:2.0
PRODID:-//NPO法人みえ減災啓発支援ネット - ECPv5.8.1//NONSGML v1.0//EN
CALSCALE:GREGORIAN
METHOD:PUBLISH
X-WR-CALNAME:NPO法人みえ減災啓発支援ネット
X-ORIGINAL-URL:http://gensaikeihatsu.org
X-WR-CALDESC:NPO法人みえ減災啓発支援ネット のイベント
BEGIN:VTIMEZONE
TZID:Asia/Tokyo
BEGIN:STANDARD
TZOFFSETFROM:+0900
TZOFFSETTO:+0900
TZNAME:JST
DTSTART:20190101T000000
END:STANDARD
END:VTIMEZONE
BEGIN:VEVENT
DTSTART;TZID=Asia/Tokyo:20190728T010000
DTEND;TZID=Asia/Tokyo:20190728T150000
DTSTAMP:20260424T022641
CREATED:20190622T051111Z
LAST-MODIFIED:20190622T051114Z
UID:2129-1564275600-1564326000@gensaikeihatsu.org
SUMMARY:ファンミリー防災講座
DESCRIPTION:
URL:http://gensaikeihatsu.org/event/%e3%83%95%e3%82%a1%e3%83%b3%e3%83%9f%e3%83%aa%e3%83%bc%e9%98%b2%e7%81%bd%e8%ac%9b%e5%ba%a7-2
END:VEVENT
END:VCALENDAR